BEGIN:VCALENDAR
VERSION:2.0
PRODID:-//CoNGO - ECPv6.15.13//NONSGML v1.0//EN
CALSCALE:GREGORIAN
METHOD:PUBLISH
X-WR-CALNAME:CoNGO
X-ORIGINAL-URL:https://ngocongo.org
X-WR-CALDESC:Events for CoNGO
REFRESH-INTERVAL;VALUE=DURATION:PT1H
X-Robots-Tag:noindex
X-PUBLISHED-TTL:PT1H
BEGIN:VTIMEZONE
TZID:America/New_York
BEGIN:DAYLIGHT
TZOFFSETFROM:-0500
TZOFFSETTO:-0400
TZNAME:EDT
DTSTART:20240310T070000
END:DAYLIGHT
BEGIN:STANDARD
TZOFFSETFROM:-0400
TZOFFSETTO:-0500
TZNAME:EST
DTSTART:20241103T060000
END:STANDARD
BEGIN:DAYLIGHT
TZOFFSETFROM:-0500
TZOFFSETTO:-0400
TZNAME:EDT
DTSTART:20250309T070000
END:DAYLIGHT
BEGIN:STANDARD
TZOFFSETFROM:-0400
TZOFFSETTO:-0500
TZNAME:EST
DTSTART:20251102T060000
END:STANDARD
BEGIN:DAYLIGHT
TZOFFSETFROM:-0500
TZOFFSETTO:-0400
TZNAME:EDT
DTSTART:20260308T070000
END:DAYLIGHT
BEGIN:STANDARD
TZOFFSETFROM:-0400
TZOFFSETTO:-0500
TZNAME:EST
DTSTART:20261101T060000
END:STANDARD
END:VTIMEZONE
BEGIN:VEVENT
DTSTART;TZID=America/New_York:20250109T100000
DTEND;TZID=America/New_York:20250109T110000
DTSTAMP:20260419T182745
CREATED:20250107T060539Z
LAST-MODIFIED:20250108T183612Z
UID:10002607-1736416800-1736420400@ngocongo.org
SUMMARY:The NGO Committee on Ageing “The World Bank Pillars of Ageing Strategy”
DESCRIPTION:DUE TO PRESIDENT BIDEN’S DECLARATION OF A NATIONAL DAY OF MOURNING FOR FORMER PRESIDENT JIMMY CARTER\, THE NGO COA/NY WILL RESCHEDULE THE JANUARY PROGRAM TO FEBRUARY 6\, 2025. A REVISED FLYER WILL BE SENT AT A LATER DATE. \nProgram Meeting \n“The World Bank Pillars of Ageing Strategy” \nGustavo DeMarco\, Lead Economist and Pension Global Lead for The World Bank will present an engaging discussion\, guided in part by the publication Charting a Course Towards Universal Social Protection: Resilience\, Equity\, and Opportunity for All (The World Bank Group\, 2022). Promising strategies and approaches being explored by The World Bank and its global partners seeking to remediate challenges that can lead to an impoverished older age will be explored. This real-world example highlights efforts toward meeting Sustainable Development Goal #1: Poverty Eradication and Goal #5: Gender Equality. \n 
URL:https://ngocongo.org/event/the-ngo-committee-on-ageing-the-world-bank-pillars-of-ageing-strategy/
CATEGORIES:CoNGO Recommended Events,CSO event
END:VEVENT
END:VCALENDAR