BEGIN:VCALENDAR
VERSION:2.0
PRODID:-//CoNGO - ECPv6.15.13//NONSGML v1.0//EN
CALSCALE:GREGORIAN
METHOD:PUBLISH
X-ORIGINAL-URL:https://ngocongo.org
X-WR-CALDESC:Events for CoNGO
REFRESH-INTERVAL;VALUE=DURATION:PT1H
X-Robots-Tag:noindex
X-PUBLISHED-TTL:PT1H
BEGIN:VTIMEZONE
TZID:America/New_York
BEGIN:DAYLIGHT
TZOFFSETFROM:-0500
TZOFFSETTO:-0400
TZNAME:EDT
DTSTART:20240310T070000
END:DAYLIGHT
BEGIN:STANDARD
TZOFFSETFROM:-0400
TZOFFSETTO:-0500
TZNAME:EST
DTSTART:20241103T060000
END:STANDARD
BEGIN:DAYLIGHT
TZOFFSETFROM:-0500
TZOFFSETTO:-0400
TZNAME:EDT
DTSTART:20250309T070000
END:DAYLIGHT
BEGIN:STANDARD
TZOFFSETFROM:-0400
TZOFFSETTO:-0500
TZNAME:EST
DTSTART:20251102T060000
END:STANDARD
BEGIN:DAYLIGHT
TZOFFSETFROM:-0500
TZOFFSETTO:-0400
TZNAME:EDT
DTSTART:20260308T070000
END:DAYLIGHT
BEGIN:STANDARD
TZOFFSETFROM:-0400
TZOFFSETTO:-0500
TZNAME:EST
DTSTART:20261101T060000
END:STANDARD
END:VTIMEZONE
BEGIN:VEVENT
DTSTART;VALUE=DATE:20250309
DTEND;VALUE=DATE:20250322
DTSTAMP:20260423T064946
CREATED:20250305T233137Z
LAST-MODIFIED:20250305T233746Z
UID:10002637-1741478400-1742601599@ngocongo.org
SUMMARY:NGO CSW69 NGO FORUM
DESCRIPTION:NGO CSW69/Beijing+30 Forum\n\nMarch 9 – 21\, 2025\nCCUN / New York\, NY\n\n\n\n\nThe NGO CSW Forum is organized by and for global civil society\, non-governmental organizations\, and feminists to connect them with the official United Nations Commission on the Status of Women (UN CSW.\nSee More
URL:https://ngocongo.org/event/ngo-csw69-ngo-forum/
CATEGORIES:CoNGO Events,CoNGO Member Events,CoNGO Recommended Events,CSO event
END:VEVENT
END:VCALENDAR