BEGIN:VCALENDAR
VERSION:2.0
PRODID:-//CoNGO - ECPv6.15.13//NONSGML v1.0//EN
CALSCALE:GREGORIAN
METHOD:PUBLISH
X-WR-CALNAME:CoNGO
X-ORIGINAL-URL:https://ngocongo.org
X-WR-CALDESC:Events for CoNGO
REFRESH-INTERVAL;VALUE=DURATION:PT1H
X-Robots-Tag:noindex
X-PUBLISHED-TTL:PT1H
BEGIN:VTIMEZONE
TZID:America/New_York
BEGIN:DAYLIGHT
TZOFFSETFROM:-0500
TZOFFSETTO:-0400
TZNAME:EDT
DTSTART:20250309T070000
END:DAYLIGHT
BEGIN:STANDARD
TZOFFSETFROM:-0400
TZOFFSETTO:-0500
TZNAME:EST
DTSTART:20251102T060000
END:STANDARD
BEGIN:DAYLIGHT
TZOFFSETFROM:-0500
TZOFFSETTO:-0400
TZNAME:EDT
DTSTART:20260308T070000
END:DAYLIGHT
BEGIN:STANDARD
TZOFFSETFROM:-0400
TZOFFSETTO:-0500
TZNAME:EST
DTSTART:20261101T060000
END:STANDARD
BEGIN:DAYLIGHT
TZOFFSETFROM:-0500
TZOFFSETTO:-0400
TZNAME:EDT
DTSTART:20270314T070000
END:DAYLIGHT
BEGIN:STANDARD
TZOFFSETFROM:-0400
TZOFFSETTO:-0500
TZNAME:EST
DTSTART:20271107T060000
END:STANDARD
END:VTIMEZONE
BEGIN:VEVENT
DTSTART;TZID=America/New_York:20260205T150000
DTEND;TZID=America/New_York:20260205T180000
DTSTAMP:20260424T124423
CREATED:20260202T124832Z
LAST-MODIFIED:20260202T125157Z
UID:10002709-1770303600-1770314400@ngocongo.org
SUMMARY:Youth Digital Collaboration for a Sustainable Planet: Innovating for Inclusive Cities
DESCRIPTION:In collaboration with the The Conference of NGOs in Consultative Relationship with the United Nations (CoNGO) and the New York University International Education Program\, the IVECA Center for International Virtual Schooling & the Global NGO Executive Committee (GNEC) welcome NGOs and civil society to participate in a 2026 ECOSOC Partnership Forum Follow-Up Event. The event theme is\, “Youth Digital Collaboration for a Sustainable Planet: Innovating for Inclusive Cities.” \nIn line with the Pact for the Future\, the Global Digital Compact\, and UNESCO’s education frameworks\, this event will demonstrate how youth-driven digital collaboration can turn global commitments into tangible collective action on Sustainable Development Goals (SDGs) 6\, 7\, 9\, 11\, and 17. Come join convening youth\, educators\, civil society partners\, government representatives\, and international organizations to highlight how multi-stakeholder collaboration\, digital learning\, and intercultural dialogue can accelerate progress toward the fast-approaching 2030 deadline and strengthen the foundations of harmonious\, inclusive\, and resilient societies.
URL:https://ngocongo.org/event/youth-digital-collaboration-for-a-sustainable-planet-innovating-for-inclusive-cities/
LOCATION:Economic and Social Council Chamber\, United Nations Headquarters NY\, NY\, United States
CATEGORIES:CoNGO Recommended Events
END:VEVENT
BEGIN:VEVENT
DTSTART;TZID=America/New_York:20260206T100000
DTEND;TZID=America/New_York:20260206T130000
DTSTAMP:20260424T124423
CREATED:20260202T125033Z
LAST-MODIFIED:20260202T125134Z
UID:10002710-1770372000-1770382800@ngocongo.org
SUMMARY:Civil Society Forum 64 at the Commission for Social Development
DESCRIPTION:The Civil Society Forum at the 64th session of the Commission for Social Development (CSocD) will be held on 6 February 2026 in New York\, USA. Under the priority theme of “Advancing Social Development and Social Justice through Coordinated\, Equitable\, and Inclusive Policies\,” the Civil Society Forum allows for civil society to play a critical role in shaping dialogue\, sharing grounded experiences\, and ensuring that commitments translate into real change for communities.
URL:https://ngocongo.org/event/civil-society-forum-64-at-the-commission-for-social-development/
LOCATION:Conference Room 4 | United Nations HQ\, New York 405 E 45th St\, New York\, NY 10017\, Conference Room 4\, United Nations HQ\, New York 405 E 45th St\,\, New York\, NY\, 10017\, United States
CATEGORIES:CoNGO Recommended Events
END:VEVENT
BEGIN:VEVENT
DTSTART;TZID=America/New_York:20260210T130000
DTEND;TZID=America/New_York:20260210T150000
DTSTAMP:20260424T124423
CREATED:20260209T153448Z
LAST-MODIFIED:20260209T174407Z
UID:10002711-1770728400-1770735600@ngocongo.org
SUMMARY:Meeting of the NGO Committee on Financing for Development
DESCRIPTION:Virtual via Zoom (Navigate here to register)
URL:https://ngocongo.org/event/meeting-of-the-ngo-committee-on-financing-for-development/
LOCATION:Virtual
CATEGORIES:CoNGO Events,CoNGO Member Events
END:VEVENT
BEGIN:VEVENT
DTSTART;TZID=America/New_York:20260217T103000
DTEND;TZID=America/New_York:20260217T120000
DTSTAMP:20260424T124423
CREATED:20260209T161251Z
LAST-MODIFIED:20260209T192440Z
UID:10002712-1771324200-1771329600@ngocongo.org
SUMMARY:Washington DC NGO Listening Session: Engaging Civil Society’s Voice
DESCRIPTION:Hosted by CoNGO President Peter Preziosi and Immediate Past President Levi Bautista.A listening session to hear NGO priorities\, challenges\, and ideas\, and to strengthen civil society participation within the UN system.
URL:https://ngocongo.org/event/washington-dc-ngo-listening-session-engaging-civil-societys-voice/
LOCATION:United Methodist Church\, Washington Office\, 100 Maryland Avenue NE\, Suite 310\, Washington\, DC\, 20002\, United States
CATEGORIES:CoNGO Events,CoNGO Member Events
END:VEVENT
END:VCALENDAR